BEGIN:VCALENDAR
VERSION:2.0
METHOD:PUBLISH
PRODID:SimpleCalendar
BEGIN:VEVENT
UID:@simplecalendar-Revista Opus Habana
CATEGORIES:Exposiciones
CLASS:PUBLIC
DTSTAMP:20191128T193107Z
CREATED:20191128T193107Z
SUMMARY:Continúa la exposición de fotografía Encajes de Flandes
DESCRIPTION:Continúa la exposición de fotografía Encajes de Flandes  / Vitrina de Va lonia
LOCATION:
LAST-MODIFIED:20120112T221843Z
URL:http://opushabana.cu/index.php/component/simplecalendar/48-exposiciones/4848-continua-la-exposicion-de-fotografia-encajes-de-flandes?Itemid=101
TRANSP:OPAQUE
DTSTART:20020102T100000Z
DTEND:20020131T000000Z
END:VEVENT
END:VCALENDAR