BEGIN:VCALENDAR
VERSION:2.0
METHOD:PUBLISH
PRODID:SimpleCalendar
BEGIN:VEVENT
UID:@simplecalendar-Revista Opus Habana
CATEGORIES:Exposiciones
CLASS:PUBLIC
DTSTAMP:20191128T193046Z
CREATED:20191128T193046Z
SUMMARY:Inauguración de la exposición Historia Numismática de Costa Rica
DESCRIPTION:Inauguración de la exposición Historia Numismática de Costa Rica  / Muse o Numismático
LOCATION:
LAST-MODIFIED:20120904T191812Z
URL:http://opushabana.cu/index.php/component/simplecalendar/48-exposiciones/5668-inauguracion-de-la-exposicion-historia-numismatica-de-costa-rica?Itemid=101
TRANSP:OPAQUE
DTSTART:20010915T103000Z
DTEND:20010915T000000Z
END:VEVENT
END:VCALENDAR