BEGIN:VCALENDAR
VERSION:2.0
METHOD:PUBLISH
PRODID:SimpleCalendar
BEGIN:VEVENT
UID:@simplecalendar-Revista Opus Habana
CATEGORIES:Exposiciones
CLASS:PUBLIC
DTSTAMP:20191129T205454Z
CREATED:20191129T205454Z
SUMMARY:Inauguración de las muestras «Cuba Danza» y «Una mirada a La Hab
DESCRIPTION:Inauguración de las muestras «Cuba Danza» y «Una mirada a La Hab  / Cas a Fundación Oswaldo Guayasamín
LOCATION:
URL:http://opushabana.cu/index.php/component/simplecalendar/48-exposiciones/9?Itemid=101
TRANSP:OPAQUE
DTSTART:20080326T170000Z
DTEND:20080326T170000Z
END:VEVENT
END:VCALENDAR