BEGIN:VCALENDAR
VERSION:2.0
METHOD:PUBLISH
PRODID:SimpleCalendar
X-WR-TIMEZONE:Europe/London
BEGIN:VEVENT
UID:5668@simplecalendar-Revista Opus Habana
CATEGORIES:
CLASS:PUBLIC
DTSTAMP:20191128T183053Z
CREATED:20191128T183053Z
SUMMARY:InauguraciÃ³n de la exposiciÃ³n Historia NumismÃ¡tica de Costa Rica
DESCRIPTION:InauguraciÃ³n de la exposiciÃ³n Historia NumismÃ¡tica de Costa Rica, donde  se apreciarÃ¡n monedas, billetes y medallas de ese paÃ­s.
LOCATION:
LAST-MODIFIED:20120907T171417Z
TRANSP:OPAQUE
DTSTART:20010915T103000Z
DTEND:20010915T113000Z
END:VEVENT
BEGIN:VEVENT
UID:4848@simplecalendar-Revista Opus Habana
CATEGORIES:
CLASS:PUBLIC
DTSTAMP:20191128T183053Z
CREATED:20191128T183053Z
SUMMARY:ContinÃºa la exposiciÃ³n de fotografÃ­a Encajes de Flandes
DESCRIPTION:ContinÃºa la exposiciÃ³n de fotografÃ­a Encajes de Flandes, con la colabor aciÃ³n de la Embajada de BÃ©lgica.
LOCATION:
LAST-MODIFIED:20120113T150909Z
TRANSP:OPAQUE
DTSTART:20020102T100000Z
DTEND:20020131T110000Z
END:VEVENT
BEGIN:VEVENT
UID:4800@simplecalendar-Revista Opus Habana
CATEGORIES:
CLASS:PUBLIC
DTSTAMP:20191128T183053Z
CREATED:20191128T183053Z
SUMMARY:ExposiciÃ³n La arquitectura noruega contemporÃ¡nea No. 7
DESCRIPTION:ExposiciÃ³n Â«La arquitectura noruega contemporÃ¡nea No. 7Â», integrada po r proyectos realizados en ese paÃ­s europeo y por arquitectos noruegos en  el extranjero en el perÃ­odo 2005-2010. Ha sido producida por el Museo Nac ional de Arte, Arquitectura y DiseÃ±o
LOCATION:
LAST-MODIFIED:20120112T220948Z
TRANSP:OPAQUE
DTSTART;VALUE=DATE:20020104
DTEND;VALUE=DATE:20020116
END:VEVENT
BEGIN:VEVENT
UID:4845@simplecalendar-Revista Opus Habana
CATEGORIES:
CLASS:PUBLIC
DTSTAMP:20191128T183053Z
CREATED:20191128T183053Z
SUMMARY:Se mantiene la exposiciÃ³n Hallazgos arqueolÃ³gicos en Los Buchillones.
DESCRIPTION:ContinÃºa exponiÃ©ndose Hallazgos arqueolÃ³gicos en Los Buchillones. Se tr ata de una representaciÃ³n de las piezas de madera encontradas en esta Ã¡r ea, considerada como una zona de asentamiento de primera magnitud de las c omunidades agricultoras ce
LOCATION:
LAST-MODIFIED:20120113T145225Z
TRANSP:OPAQUE
DTSTART:20040102T100000Z
DTEND:20040131T110000Z
END:VEVENT
BEGIN:VEVENT
UID:4390@simplecalendar-Revista Opus Habana
CATEGORIES:
CLASS:PUBLIC
DTSTAMP:20191128T183053Z
CREATED:20191128T183053Z
SUMMARY:Jornadas El Siglo de las Luces
DESCRIPTION:InauguraciÃ³n de la exposiciÃ³n de fotos del rodaje de El Siglo de las Luc es.
LOCATION:
LAST-MODIFIED:20110909T144721Z
TRANSP:OPAQUE
DTSTART:20040714T140000Z
DTEND:20040714T150000Z
END:VEVENT
BEGIN:VEVENT
UID:4470@simplecalendar-Revista Opus Habana
CATEGORIES:
CLASS:PUBLIC
DTSTAMP:20191128T183053Z
CREATED:20191128T183053Z
SUMMARY:InauguraciÃ³n de exposiciÃ³n bibliogrÃ¡fica de manuscritos Memorias de poeta
DESCRIPTION:InauguraciÃ³n de exposiciÃ³n bibliogrÃ¡fica de manuscritos Â«Memorias de p oetas y poÃ©ticasÂ».
LOCATION:
LAST-MODIFIED:20110919T161144Z
TRANSP:OPAQUE
DTSTART:20040921T110000Z
DTEND:20040921T120000Z
END:VEVENT
BEGIN:VEVENT
UID:3882@simplecalendar-Revista Opus Habana
CATEGORIES:
CLASS:PUBLIC
DTSTAMP:20191128T183053Z
CREATED:20191128T183053Z
SUMMARY:SalÃ³n de BisuterÃ­a, organizado por la manifestaciÃ³n de MiscelÃ¡ne
DESCRIPTION:InauguraciÃ³n del SalÃ³n de BisuterÃ­a, organizado por la manifestaciÃ³n d e MiscelÃ¡neas de la AsociaciÃ³n Cubana de Artesanos Artistas que permanec erÃ¡ abierta hasta el prÃ³ximo dÃ­a 18 de abril.
LOCATION:
LAST-MODIFIED:20110318T212719Z
TRANSP:OPAQUE
DTSTART:20070318T150000Z
DTEND:20070418T200000Z
END:VEVENT
BEGIN:VEVENT
UID:4035@simplecalendar-Revista Opus Habana
CATEGORIES:
CLASS:PUBLIC
DTSTAMP:20191128T183053Z
CREATED:20191128T183053Z
SUMMARY:InauguraciÃ³n de una muestra del artista IvÃ¡n Recalde
DESCRIPTION:InauguraciÃ³n de una muestra del artista IvÃ¡n Recalde.
LOCATION:
LAST-MODIFIED:20110413T161920Z
TRANSP:OPAQUE
DTSTART:20070413T100000Z
DTEND:20070413T110000Z
END:VEVENT
BEGIN:VEVENT
UID:3996@simplecalendar-Revista Opus Habana
CATEGORIES:
CLASS:PUBLIC
DTSTAMP:20191128T183053Z
CREATED:20191128T183053Z
SUMMARY:InauguraciÃ³n de la exposiciÃ³n Monumentos en la NumismÃ¡tica, inte
DESCRIPTION:Con motivo del DÃ­a Internacional de los Monumentos, inauguraciÃ³n de la e xposiciÃ³n Monumentos en la NumismÃ¡tica, integrada porÂ  billetes, medall as y monedas.
LOCATION:
LAST-MODIFIED:20110413T161837Z
TRANSP:OPAQUE
DTSTART:20070413T150000Z
DTEND:20070413T200000Z
END:VEVENT
BEGIN:VEVENT
UID:9@simplecalendar-Revista Opus Habana
CATEGORIES:
CLASS:PUBLIC
DTSTAMP:20191128T183053Z
CREATED:20191128T183053Z
SUMMARY:InauguraciÃ³n de las muestras Â«Cuba DanzaÂ» y Â«Una mirada a La Hab
DESCRIPTION:Inauguración de las muestras «Cuba Danza», del franc&ea cute;s Jean Pierre  y «Una mirada a La Habana», de los fo tógrafos guatemaltecos Christian y Alina Kummerfeldt Kiroa.
LOCATION:
TRANSP:OPAQUE
DTSTART;VALUE=DATE:20080326
DTEND;VALUE=DATE:20080327
END:VEVENT
END:VCALENDAR