BEGIN:VCALENDAR
VERSION:2.0
METHOD:PUBLISH
PRODID:SimpleCalendar
BEGIN:VEVENT
UID:@simplecalendar-Revista Opus Habana
CATEGORIES:Cine y Video
CLASS:PUBLIC
DTSTAMP:20191128T193853Z
CREATED:20191128T193853Z
SUMMARY:Proyección de la película Los lunes al sol.
DESCRIPTION:Proyección de la película Los lunes al sol.  / Centro Hispanoamericano de  Cultura
LOCATION:
URL:http://opushabana.cu/index.php/component/simplecalendar/49-cine-y-video/12?Itemid=101
TRANSP:OPAQUE
DTSTART:20080327T160000Z
DTEND:20080327T160000Z
END:VEVENT
END:VCALENDAR