BEGIN:VCALENDAR
VERSION:2.0
METHOD:PUBLISH
PRODID:SimpleCalendar
BEGIN:VEVENT
UID:@simplecalendar-Revista Opus Habana
CATEGORIES:Cine y Video
CLASS:PUBLIC
DTSTAMP:20191128T193842Z
CREATED:20191128T193842Z
SUMMARY:Proyección de Audiovisual del Centro Histórico de la Ciudad y Me
DESCRIPTION:Proyección de Audiovisual del Centro Histórico de la Ciudad y Me  / Cinem atógrafo Lumiére
LOCATION:
URL:http://opushabana.cu/index.php/component/simplecalendar/49-cine-y-video/27?Itemid=101
TRANSP:OPAQUE
DTSTART:20080324T100000Z
DTEND:20080329T120000Z
END:VEVENT
END:VCALENDAR