BEGIN:VCALENDAR
VERSION:2.0
METHOD:PUBLISH
PRODID:SimpleCalendar
BEGIN:VEVENT
UID:@simplecalendar-Revista Opus Habana
CATEGORIES:Cine y Video
CLASS:PUBLIC
DTSTAMP:20191128T193823Z
CREATED:20191128T193823Z
SUMMARY:Cine colombiano. Bolívar soy yo. 2002. Dir. Jorge Alí Triana.
DESCRIPTION:Cine colombiano. Bolívar soy yo. 2002. Dir. Jorge Alí Triana.  / Centro H ispanoamericano de Cultura
LOCATION:
LAST-MODIFIED:00000000T000000Z
URL:http://opushabana.cu/index.php/component/simplecalendar/49-cine-y-video/3122-cine-colombiano-bolivar-soy-yo-2002-dir-jorge-ali-triana?Itemid=101
TRANSP:OPAQUE
DTSTART:20070722T160000Z
DTEND:20070722T220000Z
END:VEVENT
END:VCALENDAR