BEGIN:VCALENDAR
VERSION:2.0
METHOD:PUBLISH
PRODID:SimpleCalendar
BEGIN:VEVENT
UID:@simplecalendar-Revista Opus Habana
CATEGORIES:Cine y Video
CLASS:PUBLIC
DTSTAMP:20191128T193831Z
CREATED:20191128T193831Z
SUMMARY:Proyección de José Martí: El ojo del canario, filme cubano de Fe
DESCRIPTION:Proyección de José Martí: El ojo del canario, filme cubano de Fe  / Cine matógrafo Lumiére
LOCATION:
LAST-MODIFIED:20110112T185508Z
URL:http://opushabana.cu/index.php/component/simplecalendar/49-cine-y-video/3692-proyeccion-de-jose-marti-el-ojo-del-canario-filme-cubano-de-fern?Itemid=101
TRANSP:OPAQUE
DTSTART:20080124T150000Z
DTEND:20080129T200000Z
END:VEVENT
END:VCALENDAR