BEGIN:VCALENDAR
VERSION:2.0
METHOD:PUBLISH
PRODID:SimpleCalendar
BEGIN:VEVENT
UID:@simplecalendar-Revista Opus Habana
CATEGORIES:Cine y Video
CLASS:PUBLIC
DTSTAMP:20191128T193837Z
CREATED:20191128T193837Z
SUMMARY:Proyección de la película Las tortugas ninjas TMNT
DESCRIPTION:Proyección de la película Las tortugas ninjas TMNT  / Cinematógrafo Lumi ére
LOCATION:
LAST-MODIFIED:00000000T000000Z
URL:http://opushabana.cu/index.php/component/simplecalendar/49-cine-y-video/4-proyeccion-de-la-pelicula-las-tortugas-ninjas-tmnt?Itemid=101
TRANSP:OPAQUE
DTSTART:20080323T100000Z
DTEND:20080323T140000Z
END:VEVENT
END:VCALENDAR