BEGIN:VCALENDAR
VERSION:2.0
METHOD:PUBLISH
PRODID:SimpleCalendar
BEGIN:VEVENT
UID:@simplecalendar-Revista Opus Habana
CATEGORIES:Cine y Video
CLASS:PUBLIC
DTSTAMP:20191128T191617Z
CREATED:20191128T191617Z
SUMMARY:Proyección del filme francés Capitaine Achab
DESCRIPTION:Proyección del filme francés Capitaine Achab  / Casa Víctor Hugo
LOCATION:
LAST-MODIFIED:20111123T182804Z
URL:http://opushabana.cu/index.php/component/simplecalendar/49-cine-y-video/4708-proyeccion-del-filme-frnaces-capitaine-achab?Itemid=101
TRANSP:OPAQUE
DTSTART:19971201T140000Z
DTEND:19971201T000000Z
END:VEVENT
END:VCALENDAR