BEGIN:VCALENDAR
VERSION:2.0
METHOD:PUBLISH
PRODID:SimpleCalendar
BEGIN:VEVENT
UID:@simplecalendar-Revista Opus Habana
CATEGORIES:Cine y Video
CLASS:PUBLIC
DTSTAMP:20191128T191603Z
CREATED:20191128T191603Z
SUMMARY:Muestra de cine francés
DESCRIPTION:Muestra de cine francés  / Casa Víctor Hugo
LOCATION:
LAST-MODIFIED:20111129T222145Z
URL:http://opushabana.cu/index.php/component/simplecalendar/49-cine-y-video/4734-muestra-de-cine-frances?Itemid=101
TRANSP:OPAQUE
DTSTART:19951201T140000Z
DTEND:19951221T000000Z
END:VEVENT
END:VCALENDAR