BEGIN:VCALENDAR
VERSION:2.0
METHOD:PUBLISH
PRODID:SimpleCalendar
BEGIN:VEVENT
UID:@simplecalendar-Revista Opus Habana
CATEGORIES:Cine y Video
CLASS:PUBLIC
DTSTAMP:20191128T193023Z
CREATED:20191128T193023Z
SUMMARY:Conferencia José Martí y los Caballeros de la Luz
DESCRIPTION:Conferencia José Martí y los Caballeros de la Luz  / Casa Juan Gualberto  Gómez
LOCATION:
LAST-MODIFIED:20120117T205719Z
URL:http://opushabana.cu/index.php/component/simplecalendar/49-cine-y-video/4878-conferencia-jose-marti-y-los-caballeros-de-la-luz?Itemid=101
TRANSP:OPAQUE
DTSTART:19990127T100000Z
DTEND:19990127T000000Z
END:VEVENT
END:VCALENDAR