BEGIN:VCALENDAR
VERSION:2.0
METHOD:PUBLISH
PRODID:SimpleCalendar
X-WR-TIMEZONE:Europe/London
BEGIN:VEVENT
UID:4726@simplecalendar-Revista Opus Habana
CATEGORIES:
CLASS:PUBLIC
DTSTAMP:20191115T172031Z
CREATED:20191115T172031Z
SUMMARY:Muestra de cine francÃ©s
DESCRIPTION:OÂ´Reilly No. 311 entre Habana y Aguiar. Muestra de cine francÃ©s, como par te del 33. Festival Internacional del Nuevo Cine Latinoamericano.
LOCATION:OÂ´Reilly No. 311 entre Habana y Aguiar.
LAST-MODIFIED:20180314T214348Z
TRANSP:OPAQUE
DTSTART;VALUE=DATE:19941201
DTEND;VALUE=DATE:19941202
END:VEVENT
BEGIN:VEVENT
UID:4734@simplecalendar-Revista Opus Habana
CATEGORIES:
CLASS:PUBLIC
DTSTAMP:20191115T172031Z
CREATED:20191115T172031Z
SUMMARY:Muestra de cine francÃ©s
DESCRIPTION:Muestra de cine francÃ©s, como parte del 33. Festival Internacional del Nu evo Cine Latinoamericano.
LOCATION:
LAST-MODIFIED:20111202T161405Z
TRANSP:OPAQUE
DTSTART:19951201T140000Z
DTEND:19951221T150000Z
END:VEVENT
BEGIN:VEVENT
UID:4708@simplecalendar-Revista Opus Habana
CATEGORIES:
CLASS:PUBLIC
DTSTAMP:20191115T172031Z
CREATED:20191115T172031Z
SUMMARY:ProyecciÃ³n del filme francÃ©s Capitaine Achab
DESCRIPTION:ProyecciÃ³n del filme frnacÃ©s Capitaine Achab (CapitÃ¡n Achab) del direct or Philippe Ramos.
LOCATION:
LAST-MODIFIED:20130424T182620Z
TRANSP:OPAQUE
DTSTART:19971201T140000Z
DTEND:19971201T150000Z
END:VEVENT
BEGIN:VEVENT
UID:4878@simplecalendar-Revista Opus Habana
CATEGORIES:
CLASS:PUBLIC
DTSTAMP:20191115T172031Z
CREATED:20191115T172031Z
SUMMARY:Conferencia JosÃ© MartÃ­ y los Caballeros de la Luz
DESCRIPTION:Conferencia JosÃ© MartÃ­ y los Caballeros de la Luz, impartida por el hist oriador Idael Sanabria GÃ¡lvez.
LOCATION:
LAST-MODIFIED:20120119T142822Z
TRANSP:OPAQUE
DTSTART:19990127T100000Z
DTEND:19990127T110000Z
END:VEVENT
BEGIN:VEVENT
UID:3122@simplecalendar-Revista Opus Habana
CATEGORIES:
CLASS:PUBLIC
DTSTAMP:20191115T172031Z
CREATED:20191115T172031Z
SUMMARY:Cine colombiano. BolÃ­var soy yo. 2002. Dir. Jorge AlÃ­ Triana.
DESCRIPTION:Cine colombiano. BolÃ­var soy yo. 2002. Dir. Jorge AlÃ­ Triana.
LOCATION:
LAST-MODIFIED:20101125T174315Z
TRANSP:OPAQUE
DTSTART:20070722T160000Z
DTEND:20070722T220000Z
END:VEVENT
BEGIN:VEVENT
UID:3692@simplecalendar-Revista Opus Habana
CATEGORIES:
CLASS:PUBLIC
DTSTAMP:20191115T172031Z
CREATED:20191115T172031Z
SUMMARY:ProyecciÃ³n de JosÃ© MartÃ­: El ojo del canario, filme cubano de Fe
DESCRIPTION:ProyecciÃ³n de JosÃ© MartÃ­: El ojo del canario, filme cubano de Fernando  PÃ©rez.
LOCATION:
LAST-MODIFIED:20110120T142709Z
TRANSP:OPAQUE
DTSTART:20080124T150000Z
DTEND:20080129T200000Z
END:VEVENT
BEGIN:VEVENT
UID:4@simplecalendar-Revista Opus Habana
CATEGORIES:
CLASS:PUBLIC
DTSTAMP:20191115T172031Z
CREATED:20191115T172031Z
SUMMARY:ProyecciÃ³n de la pelÃ­cula Las tortugas ninjas TMNT
DESCRIPTION:ProyecciÃ³n de la pelÃ­cula Las tortugas ninjas TMNT
LOCATION:
LAST-MODIFIED:20101125T174501Z
TRANSP:OPAQUE
DTSTART:20080323T100000Z
DTEND:20080323T140000Z
END:VEVENT
BEGIN:VEVENT
UID:27@simplecalendar-Revista Opus Habana
CATEGORIES:
CLASS:PUBLIC
DTSTAMP:20191115T172031Z
CREATED:20191115T172031Z
SUMMARY:ProyecciÃ³n de Audiovisual del Centro HistÃ³rico de la Ciudad y Me
DESCRIPTION:Proyección de Audiovisual del Centro Histórico de la Ciudad  y Memorias de una vieja cámara.
LOCATION:
TRANSP:OPAQUE
DTSTART:20080324T100000Z
DTEND:20080329T120000Z
END:VEVENT
BEGIN:VEVENT
UID:28@simplecalendar-Revista Opus Habana
CATEGORIES:
CLASS:PUBLIC
DTSTAMP:20191115T172031Z
CREATED:20191115T172031Z
SUMMARY:ProyecciÃ³n de la pelÃ­cula Jarhead.
DESCRIPTION:Proyección de la película Jarhead.
LOCATION:
TRANSP:OPAQUE
DTSTART;VALUE=DATE:20080324
DTEND;VALUE=DATE:20080328
END:VEVENT
BEGIN:VEVENT
UID:12@simplecalendar-Revista Opus Habana
CATEGORIES:
CLASS:PUBLIC
DTSTAMP:20191115T172031Z
CREATED:20191115T172031Z
SUMMARY:ProyecciÃ³n de la pelÃ­cula Los lunes al sol.
DESCRIPTION:Proyección de la película Los lunes al sol, de Fernando Le&o acute;n de Aranoa.
LOCATION:
TRANSP:OPAQUE
DTSTART;VALUE=DATE:20080327
DTEND;VALUE=DATE:20080328
END:VEVENT
END:VCALENDAR