BEGIN:VCALENDAR
VERSION:2.0
METHOD:PUBLISH
PRODID:SimpleCalendar
BEGIN:VEVENT
UID:@simplecalendar-Revista Opus Habana
CATEGORIES:Musicales
CLASS:PUBLIC
DTSTAMP:20191128T193159Z
CREATED:20191128T193159Z
SUMMARY:Concierto de graduación de Claudia Lastra Vila.
DESCRIPTION:Concierto de graduación de Claudia Lastra Vila.  / Basílica de San Franci sco de Asís
LOCATION:
URL:http://opushabana.cu/index.php/component/simplecalendar/50-musicales/10?Itemid=101
TRANSP:OPAQUE
DTSTART:20080326T180000Z
DTEND:20080326T180000Z
END:VEVENT
END:VCALENDAR