BEGIN:VCALENDAR
VERSION:2.0
METHOD:PUBLISH
PRODID:SimpleCalendar
BEGIN:VEVENT
UID:@simplecalendar-Revista Opus Habana
CATEGORIES:Musicales
CLASS:PUBLIC
DTSTAMP:20191128T193129Z
CREATED:20191128T193129Z
SUMMARY:Concierto de la soprano Lieve Geuens (Bélgica), junto a la piani
DESCRIPTION:Concierto de la soprano Lieve Geuens (Bélgica), junto a la piani  / Orator io de San Felipe Neri
LOCATION:
URL:http://opushabana.cu/index.php/component/simplecalendar/50-musicales/3409?Itemid=101
TRANSP:OPAQUE
DTSTART:20061109T190000Z
DTEND:20061109T223000Z
END:VEVENT
END:VCALENDAR