BEGIN:VCALENDAR
VERSION:2.0
METHOD:PUBLISH
PRODID:SimpleCalendar
BEGIN:VEVENT
UID:@simplecalendar-Revista Opus Habana
CATEGORIES:Musicales
CLASS:PUBLIC
DTSTAMP:20191128T193137Z
CREATED:20191128T193137Z
SUMMARY:Acto oficial y concierto de presentación del CD Siempre en mi co
DESCRIPTION:Acto oficial y concierto de presentación del CD Siempre en mi co  / Basíl ica de San Francisco de Asís
LOCATION:
LAST-MODIFIED:20110111T184659Z
URL:http://opushabana.cu/index.php/component/simplecalendar/50-musicales/3679-acto-oficial-y-concierto-de-presentacion-del-cd-siempre-en-mi-co?Itemid=101
TRANSP:OPAQUE
DTSTART:20080128T180000Z
DTEND:20080128T200000Z
END:VEVENT
END:VCALENDAR