BEGIN:VCALENDAR
VERSION:2.0
METHOD:PUBLISH
PRODID:SimpleCalendar
BEGIN:VEVENT
UID:@simplecalendar-Revista Opus Habana
CATEGORIES:Musicales
CLASS:PUBLIC
DTSTAMP:20191128T193144Z
CREATED:20191128T193144Z
SUMMARY:Concierto de celebración del doce aniversario de la emisora Haba
DESCRIPTION:Concierto de celebración del doce aniversario de la emisora Haba  / Basíl ica de San Francisco de Asís
LOCATION:
LAST-MODIFIED:20110111T185521Z
URL:http://opushabana.cu/index.php/component/simplecalendar/50-musicales/3683-concierto-de-celebracion-del-doce-aniversario-de-la-emisora-haba?Itemid=101
TRANSP:OPAQUE
DTSTART:20080128T180000Z
DTEND:20080128T200000Z
END:VEVENT
END:VCALENDAR