BEGIN:VCALENDAR
VERSION:2.0
METHOD:PUBLISH
PRODID:SimpleCalendar
BEGIN:VEVENT
UID:@simplecalendar-Revista Opus Habana
CATEGORIES:Musicales
CLASS:PUBLIC
DTSTAMP:20191128T193114Z
CREATED:20191128T193114Z
SUMMARY:Temporada de conciertos Septiembre Barroco, viernes y sábados del mes
DESCRIPTION:Temporada de conciertos Septiembre Barroco, viernes y sábados del mes  / I glesia de San Francisco de Paula
LOCATION:
LAST-MODIFIED:20110909T144001Z
URL:http://opushabana.cu/index.php/component/simplecalendar/50-musicales/4454-temporada-de-conciertos-septiembre-barroco-viernes-y-sabados-del?Itemid=101
TRANSP:OPAQUE
DTSTART:20030903T190000Z
DTEND:20030930T000000Z
END:VEVENT
END:VCALENDAR