BEGIN:VCALENDAR
VERSION:2.0
METHOD:PUBLISH
PRODID:SimpleCalendar
BEGIN:VEVENT
UID:@simplecalendar-Revista Opus Habana
CATEGORIES:Musicales
CLASS:PUBLIC
DTSTAMP:20191128T193122Z
CREATED:20191128T193122Z
SUMMARY:Peña Alma llanera, con los cantantes Alejandro David, Ana Beatriz Morejón
DESCRIPTION:Peña Alma llanera, con los cantantes Alejandro David, Ana Beatriz Morejón   / Casa Simón Bolívar
LOCATION:
LAST-MODIFIED:20110909T163747Z
URL:http://opushabana.cu/index.php/component/simplecalendar/50-musicales/4469-pena-alma-llanera-con-los-cantantes-alejandro-david-ana-beatriz-?Itemid=101
TRANSP:OPAQUE
DTSTART:20060921T100000Z
DTEND:20060921T000000Z
END:VEVENT
END:VCALENDAR