BEGIN:VCALENDAR
VERSION:2.0
METHOD:PUBLISH
PRODID:SimpleCalendar
BEGIN:VEVENT
UID:@simplecalendar-Revista Opus Habana
CATEGORIES:Musicales
CLASS:PUBLIC
DTSTAMP:20191128T191610Z
CREATED:20191128T191610Z
SUMMARY:Concierto por el décimo aniversario del coro Ensemble Vocal Luna
DESCRIPTION:Concierto por el décimo aniversario del coro Ensemble Vocal Luna  / Orator io de San Felipe Neri
LOCATION:
LAST-MODIFIED:20120305T212550Z
URL:http://opushabana.cu/index.php/component/simplecalendar/50-musicales/5091-concierto-por-el-decimo-aniversario-del-coro-ensemble-vocal-luna?Itemid=101
TRANSP:OPAQUE
DTSTART:19970324T160000Z
DTEND:19970324T000000Z
END:VEVENT
END:VCALENDAR