BEGIN:VCALENDAR
VERSION:2.0
METHOD:PUBLISH
PRODID:SimpleCalendar
BEGIN:VEVENT
UID:@simplecalendar-Revista Opus Habana
CATEGORIES:Musicales
CLASS:PUBLIC
DTSTAMP:20191128T193040Z
CREATED:20191128T193040Z
SUMMARY:Presentación del grupo Jóvenes Rumberos de la provincia de Matanzas
DESCRIPTION:Presentación del grupo Jóvenes Rumberos de la provincia de Matanzas  / Ca sa de África
LOCATION:
LAST-MODIFIED:20120608T135300Z
URL:http://opushabana.cu/index.php/component/simplecalendar/50-musicales/5398-presentacion-del-grupo-jovenes-rumberos-de-la-provincia-de-matan?Itemid=101
TRANSP:OPAQUE
DTSTART:20010616T150000Z
DTEND:20010616T000000Z
END:VEVENT
END:VCALENDAR