BEGIN:VCALENDAR
VERSION:2.0
METHOD:PUBLISH
PRODID:SimpleCalendar
BEGIN:VEVENT
UID:@simplecalendar-Revista Opus Habana
CATEGORIES:Infantiles
CLASS:PUBLIC
DTSTAMP:20191129T205535Z
CREATED:20191129T205535Z
SUMMARY:Espectáculo de magia de la compañía Sueños Mágicos.
DESCRIPTION:Espectáculo de magia de la compañía Sueños Mágicos.  / Museo de Naipes
LOCATION:
URL:http://opushabana.cu/index.php/component/simplecalendar/51-infantiles/122?Itemid=101
TRANSP:OPAQUE
DTSTART:20080417T150000Z
DTEND:20080417T150000Z
END:VEVENT
END:VCALENDAR