BEGIN:VCALENDAR
VERSION:2.0
METHOD:PUBLISH
PRODID:SimpleCalendar
BEGIN:VEVENT
UID:@simplecalendar-Revista Opus Habana
CATEGORIES:Infantiles
CLASS:PUBLIC
DTSTAMP:20191129T205542Z
CREATED:20191129T205542Z
SUMMARY:Encuentro Griots dedicado a Haydée Arteaga.
DESCRIPTION:Encuentro Griots dedicado a Haydée Arteaga.  / Casa de África
LOCATION:
URL:http://opushabana.cu/index.php/component/simplecalendar/51-infantiles/131?Itemid=101
TRANSP:OPAQUE
DTSTART:20080418T150000Z
DTEND:20080418T150000Z
END:VEVENT
END:VCALENDAR