BEGIN:VCALENDAR
VERSION:2.0
METHOD:PUBLISH
PRODID:SimpleCalendar
BEGIN:VEVENT
UID:@simplecalendar-Revista Opus Habana
CATEGORIES:Infantiles
CLASS:PUBLIC
DTSTAMP:20191119T023616Z
CREATED:20191119T023616Z
SUMMARY:Jueves «La hora del cuento», espacio conducido por Mayra Navarro
DESCRIPTION:Jueves «La hora del cuento», espacio conducido por Mayra Navarro  / Bibli oteca Pública Rubén Martínez Villena
LOCATION:
LAST-MODIFIED:00000000T000000Z
URL:http://opushabana.cu/index.php/component/simplecalendar/51-infantiles/2016-jueves-lla-hora-del-cuentor-espacio-conducido-por-mayra-navarro?Itemid=101
TRANSP:OPAQUE
DTSTART:20071104T120000Z
DTEND:20071230T143000Z
END:VEVENT
END:VCALENDAR