BEGIN:VCALENDAR
VERSION:2.0
METHOD:PUBLISH
PRODID:SimpleCalendar
BEGIN:VEVENT
UID:@simplecalendar-Revista Opus Habana
CATEGORIES:Infantiles
CLASS:PUBLIC
DTSTAMP:20191119T023643Z
CREATED:20191119T023643Z
SUMMARY:Proyección de la película Tarta de fresa. En el jardín de los su
DESCRIPTION:Proyección de la película Tarta de fresa. En el jardín de los su  / Cine matógrafo Lumiére
LOCATION:
URL:http://opushabana.cu/index.php/component/simplecalendar/51-infantiles/31?Itemid=101
TRANSP:OPAQUE
DTSTART:20080330T100000Z
DTEND:20080330T140000Z
END:VEVENT
END:VCALENDAR