BEGIN:VCALENDAR
VERSION:2.0
METHOD:PUBLISH
PRODID:SimpleCalendar
BEGIN:VEVENT
UID:@simplecalendar-Revista Opus Habana
CATEGORIES:Infantiles
CLASS:PUBLIC
DTSTAMP:20191129T205515Z
CREATED:20191129T205515Z
SUMMARY:Pasarela infantil.
DESCRIPTION:Pasarela infantil.   / Casa Simón Bolívar
LOCATION:
URL:http://opushabana.cu/index.php/component/simplecalendar/51-infantiles/47?Itemid=101
TRANSP:OPAQUE
DTSTART:20080401T110000Z
DTEND:20080401T110000Z
END:VEVENT
END:VCALENDAR