BEGIN:VCALENDAR
VERSION:2.0
METHOD:PUBLISH
PRODID:SimpleCalendar
X-WR-TIMEZONE:Europe/London
BEGIN:VEVENT
UID:2016@simplecalendar-Revista Opus Habana
CATEGORIES:
CLASS:PUBLIC
DTSTAMP:20191128T184152Z
CREATED:20191128T184152Z
SUMMARY:Jueves Â«La hora del cuentoÂ», espacio conducido por Mayra Navarro
DESCRIPTION:Jueves Â«La hora del cuentoÂ», espacioÂ conducido por Mayra Navarro.
LOCATION:
LAST-MODIFIED:20101207T221500Z
TRANSP:OPAQUE
DTSTART:20071104T120000Z
DTEND:20071230T143000Z
END:VEVENT
BEGIN:VEVENT
UID:31@simplecalendar-Revista Opus Habana
CATEGORIES:
CLASS:PUBLIC
DTSTAMP:20191128T184152Z
CREATED:20191128T184152Z
SUMMARY:ProyecciÃ³n de la pelÃ­cula Tarta de fresa. En el jardÃ­n de los su
DESCRIPTION:Proyección de la película Tarta de fresa. En el jardí n de los sueños.
LOCATION:
TRANSP:OPAQUE
DTSTART:20080330T100000Z
DTEND:20080330T140000Z
END:VEVENT
BEGIN:VEVENT
UID:47@simplecalendar-Revista Opus Habana
CATEGORIES:
CLASS:PUBLIC
DTSTAMP:20191128T184152Z
CREATED:20191128T184152Z
SUMMARY:Pasarela infantil.
DESCRIPTION:Pasarela infantil para celebrar el aniversario de la creación de la  Organización de Pioneros José Martí.
LOCATION:
TRANSP:OPAQUE
DTSTART;VALUE=DATE:20080401
DTEND;VALUE=DATE:20080402
END:VEVENT
BEGIN:VEVENT
UID:62@simplecalendar-Revista Opus Habana
CATEGORIES:
CLASS:PUBLIC
DTSTAMP:20191128T184152Z
CREATED:20191128T184152Z
SUMMARY:EspectÃ¡culo con  mÃºsica, tÃ­teres y payasos.
DESCRIPTION:Espectáculo con  música, títeres y payasos para  festejar el aniversario de la creación de la Organización de  Pioneros José Martí. 
LOCATION:
TRANSP:OPAQUE
DTSTART;VALUE=DATE:20080404
DTEND;VALUE=DATE:20080405
END:VEVENT
BEGIN:VEVENT
UID:95@simplecalendar-Revista Opus Habana
CATEGORIES:
CLASS:PUBLIC
DTSTAMP:20191128T184152Z
CREATED:20191128T184152Z
SUMMARY:Unipersonal de HaydÃ©e Arteaga.
DESCRIPTION:Unipersonal de Haydée Arteaga para los niños.
LOCATION:
TRANSP:OPAQUE
DTSTART;VALUE=DATE:20080410
DTEND;VALUE=DATE:20080411
END:VEVENT
BEGIN:VEVENT
UID:122@simplecalendar-Revista Opus Habana
CATEGORIES:
CLASS:PUBLIC
DTSTAMP:20191128T184152Z
CREATED:20191128T184152Z
SUMMARY:EspectÃ¡culo de magia de la compaÃ±Ã­a SueÃ±os MÃ¡gicos.
DESCRIPTION:Espectáculo de magia de la compañía Sueños M&a acute;gicos.
LOCATION:
TRANSP:OPAQUE
DTSTART;VALUE=DATE:20080417
DTEND;VALUE=DATE:20080418
END:VEVENT
BEGIN:VEVENT
UID:131@simplecalendar-Revista Opus Habana
CATEGORIES:
CLASS:PUBLIC
DTSTAMP:20191128T184152Z
CREATED:20191128T184152Z
SUMMARY:Encuentro Griots dedicado a HaydÃ©e Arteaga.
DESCRIPTION:Para celebrar el 93 cumpleaños de Haydée Arteaga, el grupo E spacio Abierto y la Casa de África invitan a los narradores orales  que conozcan a la Señora de los Cuentos a contar historias y an&eac ute;cdotas sobre
LOCATION:
TRANSP:OPAQUE
DTSTART;VALUE=DATE:20080418
DTEND;VALUE=DATE:20080419
END:VEVENT
BEGIN:VEVENT
UID:134@simplecalendar-Revista Opus Habana
CATEGORIES:
CLASS:PUBLIC
DTSTAMP:20191128T184152Z
CREATED:20191128T184152Z
SUMMARY:Encuentro HaydÃ©e y los niÃ±os.
DESCRIPTION:Encuentro Haydée y los niños.
LOCATION:
TRANSP:OPAQUE
DTSTART;VALUE=DATE:20080419
DTEND;VALUE=DATE:20080420
END:VEVENT
BEGIN:VEVENT
UID:163@simplecalendar-Revista Opus Habana
CATEGORIES:
CLASS:PUBLIC
DTSTAMP:20191128T184152Z
CREATED:20191128T184152Z
SUMMARY:Homenaje a HaydÃ©e Arteaga por sus 93 aÃ±os.
DESCRIPTION:Homenaje a Haydée Arteaga por sus 93 años, con la actuaci&oa cute;n de La Colmenita.
LOCATION:
TRANSP:OPAQUE
DTSTART;VALUE=DATE:20080426
DTEND;VALUE=DATE:20080427
END:VEVENT
BEGIN:VEVENT
UID:219@simplecalendar-Revista Opus Habana
CATEGORIES:
CLASS:PUBLIC
DTSTAMP:20191128T184152Z
CREATED:20191128T184152Z
SUMMARY:CelebraciÃ³n tradicional por el dÃ­a del niÃ±o japonÃ©s (Kodomo No H
DESCRIPTION:Celebración tradicional por el día del niño japon&eac ute;s (Kodomo No Hi), que incluirá la exhibición de un altar  donde destacan aditamentos empleados por los samurais y otros juguetes pa ra varones.
LOCATION:
TRANSP:OPAQUE
DTSTART;VALUE=DATE:20080505
DTEND;VALUE=DATE:20080506
END:VEVENT
END:VCALENDAR