BEGIN:VCALENDAR
VERSION:2.0
METHOD:PUBLISH
PRODID:SimpleCalendar
BEGIN:VEVENT
UID:@simplecalendar-Revista Opus Habana
CATEGORIES:Teatro y Danza
CLASS:PUBLIC
DTSTAMP:20191119T023127Z
CREATED:20191119T023127Z
SUMMARY:Presentación de Cats
DESCRIPTION:Presentación de Cats  / Anfiteatro del Centro Histórico
LOCATION:
LAST-MODIFIED:20110830T142739Z
URL:http://opushabana.cu/index.php/component/simplecalendar/52-teatro-y-danza/4402-presentacion-de-cats?Itemid=101
TRANSP:OPAQUE
DTSTART:20030911T210000Z
DTEND:20030911T000000Z
END:VEVENT
END:VCALENDAR