BEGIN:VCALENDAR
VERSION:2.0
METHOD:PUBLISH
PRODID:SimpleCalendar
X-WR-TIMEZONE:Europe/London
BEGIN:VEVENT
UID:4402@simplecalendar-Revista Opus Habana
CATEGORIES:
CLASS:PUBLIC
DTSTAMP:20191128T191344Z
CREATED:20191128T191344Z
SUMMARY:PresentaciÃ³n de Cats
DESCRIPTION:PresentaciÃ³n de Cats, una de las obras musicales mÃ¡s aclamadas en todo e l mundo, bajo la direcciÃ³n general de Alfonso MenÃ©ndez.
LOCATION:
LAST-MODIFIED:20110909T145248Z
TRANSP:OPAQUE
DTSTART:20030911T210000Z
DTEND:20030911T220000Z
END:VEVENT
BEGIN:VEVENT
UID:30@simplecalendar-Revista Opus Habana
CATEGORIES:
CLASS:PUBLIC
DTSTAMP:20191128T191344Z
CREATED:20191128T191344Z
SUMMARY:Festival de Danza Callejera
DESCRIPTION:Festival de Danza Callejera en el Centro Histórico: XIII Edici&oacu te;n del Encuentro Internacional de Danza en Paisajes Urbanos, Habana Viej a: Ciudad en Movimiento.
LOCATION:
TRANSP:OPAQUE
DTSTART;VALUE=DATE:20080326
DTEND;VALUE=DATE:20080331
END:VEVENT
BEGIN:VEVENT
UID:19@simplecalendar-Revista Opus Habana
CATEGORIES:
CLASS:PUBLIC
DTSTAMP:20191128T191344Z
CREATED:20191128T191344Z
SUMMARY:PresentaciÃ³n de la obra Mujer africana.
DESCRIPTION:Presentación de la obra Mujer africana, a cargo del grupo Espacio A bierto, como parte del espacio de teatro Griot.
LOCATION:
TRANSP:OPAQUE
DTSTART;VALUE=DATE:20080328
DTEND;VALUE=DATE:20080329
END:VEVENT
BEGIN:VEVENT
UID:23@simplecalendar-Revista Opus Habana
CATEGORIES:
CLASS:PUBLIC
DTSTAMP:20191128T191344Z
CREATED:20191128T191344Z
SUMMARY:PresentaciÃ³n del grupo infantil de danza del Centro Andaluz de L
DESCRIPTION:El Centro Andaluz de la Habana presenta a su grupo infantil de danza   con motivo del Día de Andalucía. 
LOCATION:
TRANSP:OPAQUE
DTSTART;VALUE=DATE:20080329
DTEND;VALUE=DATE:20080330
END:VEVENT
BEGIN:VEVENT
UID:3@simplecalendar-Revista Opus Habana
CATEGORIES:
CLASS:PUBLIC
DTSTAMP:20191128T191344Z
CREATED:20191128T191344Z
SUMMARY:Clausura del XIII Encuentro Internacional de Danza en Paisajes U
DESCRIPTION:Clausura del XIII Encuentro Internacional de Danza en Paisajes Urbanos &la quo;Habana Vieja: Ciudad en Movimiento», Plaza de Armas.
LOCATION:
TRANSP:OPAQUE
DTSTART;VALUE=DATE:20080330
DTEND;VALUE=DATE:20080331
END:VEVENT
BEGIN:VEVENT
UID:69@simplecalendar-Revista Opus Habana
CATEGORIES:
CLASS:PUBLIC
DTSTAMP:20191128T191344Z
CREATED:20191128T191344Z
SUMMARY:EspectÃ¡culo Del Alma.
DESCRIPTION:Espectáculo Del Alma, a cargo de la Compañía Flamenca  del Centro Prodanza y la Compañía de Baile Flamenco La Trop a.
LOCATION:
TRANSP:OPAQUE
DTSTART;VALUE=DATE:20080405
DTEND;VALUE=DATE:20080406
END:VEVENT
BEGIN:VEVENT
UID:97@simplecalendar-Revista Opus Habana
CATEGORIES:
CLASS:PUBLIC
DTSTAMP:20191128T191344Z
CREATED:20191128T191344Z
SUMMARY:Lectura dramatizada a cargo de Adel Hakim y Maryse Aubert.
DESCRIPTION:Lectura dramatizada a cargo de Adel Hakim, actor y director del Teatro de  Barrios de Ivry, y la actriz Maryse Aubert.
LOCATION:
TRANSP:OPAQUE
DTSTART;VALUE=DATE:20080410
DTEND;VALUE=DATE:20080412
END:VEVENT
BEGIN:VEVENT
UID:108@simplecalendar-Revista Opus Habana
CATEGORIES:
CLASS:PUBLIC
DTSTAMP:20191128T191344Z
CREATED:20191128T191344Z
SUMMARY:PeÃ±a del grupo Romance.
DESCRIPTION:Peña del grupo Romance dirigida por el profesor Vidal Tarín.
LOCATION:
TRANSP:OPAQUE
DTSTART;VALUE=DATE:20080412
DTEND;VALUE=DATE:20080413
END:VEVENT
BEGIN:VEVENT
UID:128@simplecalendar-Revista Opus Habana
CATEGORIES:
CLASS:PUBLIC
DTSTAMP:20191128T191344Z
CREATED:20191128T191344Z
SUMMARY:Espacio de teatro Griot.
DESCRIPTION:Espacio de teatro Griot, con la actuación del grupo Espacio Abierto .
LOCATION:
TRANSP:OPAQUE
DTSTART;VALUE=DATE:20080418
DTEND;VALUE=DATE:20080419
END:VEVENT
BEGIN:VEVENT
UID:156@simplecalendar-Revista Opus Habana
CATEGORIES:
CLASS:PUBLIC
DTSTAMP:20191128T191344Z
CREATED:20191128T191344Z
SUMMARY:PresentaciÃ³n de A CompÃ¡s.
DESCRIPTION:Presentación de A Compás, compañía flamenca in fantil dirigida por Karelia Cadavid.
LOCATION:
TRANSP:OPAQUE
DTSTART;VALUE=DATE:20080426
DTEND;VALUE=DATE:20080427
END:VEVENT
END:VCALENDAR