BEGIN:VCALENDAR
VERSION:2.0
METHOD:PUBLISH
PRODID:SimpleCalendar
BEGIN:VEVENT
UID:@simplecalendar-Revista Opus Habana
CATEGORIES:Conferencias
CLASS:PUBLIC
DTSTAMP:20191128T193329Z
CREATED:20191128T193329Z
SUMMARY:Tertulia martiana
DESCRIPTION:Tertulia martiana   / Museo Casa Natal José Martí
LOCATION:
URL:http://opushabana.cu/index.php/component/simplecalendar/53-conferencias/15?Itemid=101
TRANSP:OPAQUE
DTSTART:20080328T100000Z
DTEND:20080328T100000Z
END:VEVENT
END:VCALENDAR