BEGIN:VCALENDAR
VERSION:2.0
METHOD:PUBLISH
PRODID:SimpleCalendar
BEGIN:VEVENT
UID:@simplecalendar-Revista Opus Habana
CATEGORIES:Conferencias
CLASS:PUBLIC
DTSTAMP:20191128T193338Z
CREATED:20191128T193338Z
SUMMARY:Taller de lengua francesa
DESCRIPTION:Taller de lengua francesa   / Casa Víctor Hugo
LOCATION:
URL:http://opushabana.cu/index.php/component/simplecalendar/53-conferencias/16?Itemid=101
TRANSP:OPAQUE
DTSTART:20080328T110000Z
DTEND:20080328T140000Z
END:VEVENT
END:VCALENDAR