BEGIN:VCALENDAR
VERSION:2.0
METHOD:PUBLISH
PRODID:SimpleCalendar
BEGIN:VEVENT
UID:@simplecalendar-Revista Opus Habana
CATEGORIES:Conferencias
CLASS:PUBLIC
DTSTAMP:20191128T193344Z
CREATED:20191128T193344Z
SUMMARY:Encuentro mensual del proyecto cultural Dialfa.
DESCRIPTION:Encuentro mensual del proyecto cultural Dialfa.  / Biblioteca PĂșblica RubĂ ©n MartĂ­nez Villena
LOCATION:
URL:http://opushabana.cu/index.php/component/simplecalendar/53-conferencias/24?Itemid=101
TRANSP:OPAQUE
DTSTART:20080329T130000Z
DTEND:20080329T130000Z
END:VEVENT
END:VCALENDAR