BEGIN:VCALENDAR
VERSION:2.0
METHOD:PUBLISH
PRODID:SimpleCalendar
BEGIN:VEVENT
UID:@simplecalendar-Revista Opus Habana
CATEGORIES:Conferencias
CLASS:PUBLIC
DTSTAMP:20191128T193353Z
CREATED:20191128T193353Z
SUMMARY:Proyección de la película Jarhead.
DESCRIPTION:Proyección de la película Jarhead.  / Cinematógrafo Lumiére
LOCATION:
URL:http://opushabana.cu/index.php/component/simplecalendar/53-conferencias/25?Itemid=101
TRANSP:OPAQUE
DTSTART:20080329T160000Z
DTEND:20080329T160000Z
END:VEVENT
END:VCALENDAR