BEGIN:VCALENDAR
VERSION:2.0
METHOD:PUBLISH
PRODID:SimpleCalendar
BEGIN:VEVENT
UID:@simplecalendar-Revista Opus Habana
CATEGORIES:Conferencias
CLASS:PUBLIC
DTSTAMP:20191128T193313Z
CREATED:20191128T193313Z
SUMMARY:Coloquio o programa académico del Festival Danzón Habana.
DESCRIPTION:Coloquio o programa académico del Festival Danzón Habana.  / Centro Hispa noamericano de Cultura
LOCATION:
URL:http://opushabana.cu/index.php/component/simplecalendar/53-conferencias/29?Itemid=101
TRANSP:OPAQUE
DTSTART:20080326T000000Z
DTEND:20080328T000000Z
END:VEVENT
END:VCALENDAR