BEGIN:VCALENDAR
VERSION:2.0
METHOD:PUBLISH
PRODID:SimpleCalendar
BEGIN:VEVENT
UID:@simplecalendar-Revista Opus Habana
CATEGORIES:Conferencias
CLASS:PUBLIC
DTSTAMP:20191128T193033Z
CREATED:20191128T193033Z
SUMMARY:onferencia La lotería cubana en la etapa republicana
DESCRIPTION:onferencia La lotería cubana en la etapa republicana  / Museo de Naipes
LOCATION:
LAST-MODIFIED:20120507T180708Z
URL:http://opushabana.cu/index.php/component/simplecalendar/53-conferencias/5271-onferencia-la-loteria-cubana-en-la-etapa-republicana?Itemid=101
TRANSP:OPAQUE
DTSTART:19990516T093000Z
DTEND:19990516T000000Z
END:VEVENT
END:VCALENDAR