BEGIN:VCALENDAR
VERSION:2.0
METHOD:PUBLISH
PRODID:SimpleCalendar
BEGIN:VEVENT
UID:@simplecalendar-Revista Opus Habana
CATEGORIES:Conferencias
CLASS:PUBLIC
DTSTAMP:20191128T193307Z
CREATED:20191128T193307Z
SUMMARY:Taller de lengua francesa
DESCRIPTION:Taller de lengua francesa   / Casa Víctor Hugo
LOCATION:
URL:http://opushabana.cu/index.php/component/simplecalendar/53-conferencias/6?Itemid=101
TRANSP:OPAQUE
DTSTART:20080325T110000Z
DTEND:20080325T140000Z
END:VEVENT
END:VCALENDAR