BEGIN:VCALENDAR
VERSION:2.0
METHOD:PUBLISH
PRODID:SimpleCalendar
BEGIN:VEVENT
UID:@simplecalendar-Revista Opus Habana
CATEGORIES:Conferencias
CLASS:PUBLIC
DTSTAMP:20191128T193322Z
CREATED:20191128T193322Z
SUMMARY:Conferencia «Legado antimperialista de Manuel Sanguily».
DESCRIPTION:Conferencia «Legado antimperialista de Manuel Sanguily».   / Palacio de G obierno
LOCATION:
URL:http://opushabana.cu/index.php/component/simplecalendar/53-conferencias/7?Itemid=101
TRANSP:OPAQUE
DTSTART:20080326T100000Z
DTEND:20080326T100000Z
END:VEVENT
END:VCALENDAR