BEGIN:VCALENDAR
VERSION:2.0
METHOD:PUBLISH
PRODID:SimpleCalendar
X-WR-TIMEZONE:Europe/London
BEGIN:VEVENT
UID:5271@simplecalendar-Revista Opus Habana
CATEGORIES:
CLASS:PUBLIC
DTSTAMP:20191115T153712Z
CREATED:20191115T153712Z
SUMMARY:onferencia La loterÃ­a cubana en la etapa republicana
DESCRIPTION:Conferencia La loterÃ­a cubana en la etapa republicana, por Martha Rosa Fe rnÃ¡ndez. La instituciÃ³n tambiÃ©n mostrarÃ¡ piezas relacionadas con el ju ego en Cuba, pertenecientes a la colecciÃ³n de la propia conferencista.
LOCATION:
LAST-MODIFIED:20120510T145154Z
TRANSP:OPAQUE
DTSTART:19990516T093000Z
DTEND:19990516T103000Z
END:VEVENT
BEGIN:VEVENT
UID:5@simplecalendar-Revista Opus Habana
CATEGORIES:
CLASS:PUBLIC
DTSTAMP:20191115T153712Z
CREATED:20191115T153712Z
SUMMARY:Curso libre de postgrado La cultura cubana en los 50
DESCRIPTION:Como parte de las acciones por el cincuentenario de la Revolución c ubana, comienza el curso libre de postgrado La cultura cubana en los 50, a  cargo de Ana Cairo, Mariana Serra y Ricardo Hernández Otero.
LOCATION:
TRANSP:OPAQUE
DTSTART:20080324T143000Z
DTEND:20080324T163000Z
END:VEVENT
BEGIN:VEVENT
UID:6@simplecalendar-Revista Opus Habana
CATEGORIES:
CLASS:PUBLIC
DTSTAMP:20191115T153712Z
CREATED:20191115T153712Z
SUMMARY:Taller de lengua francesa
DESCRIPTION:Taller de lengua francesa con el animador Claude Selhum.
LOCATION:
TRANSP:OPAQUE
DTSTART:20080325T110000Z
DTEND:20080325T140000Z
END:VEVENT
BEGIN:VEVENT
UID:29@simplecalendar-Revista Opus Habana
CATEGORIES:
CLASS:PUBLIC
DTSTAMP:20191115T153712Z
CREATED:20191115T153712Z
SUMMARY:Coloquio o programa acadÃ©mico del Festival DanzÃ³n Habana.
DESCRIPTION:Coloquio o programa académico del Festival Danzón Habana, au spiciado por la UNEAC, y dedicado este año a la región de Yu catán, México.
LOCATION:
TRANSP:OPAQUE
DTSTART;VALUE=DATE:20080326
DTEND;VALUE=DATE:20080329
END:VEVENT
BEGIN:VEVENT
UID:7@simplecalendar-Revista Opus Habana
CATEGORIES:
CLASS:PUBLIC
DTSTAMP:20191115T153712Z
CREATED:20191115T153712Z
SUMMARY:Conferencia Â«Legado antimperialista de Manuel SanguilyÂ».
DESCRIPTION:A propósito del aniversario 160 del natalicio del patriota cubano,  conferencia «Legado antimperialista de Manuel Sanguily», por&n bsp; la Lic. Isabel García Castiñeyra.
LOCATION:
TRANSP:OPAQUE
DTSTART;VALUE=DATE:20080326
DTEND;VALUE=DATE:20080327
END:VEVENT
BEGIN:VEVENT
UID:15@simplecalendar-Revista Opus Habana
CATEGORIES:
CLASS:PUBLIC
DTSTAMP:20191115T153712Z
CREATED:20191115T153712Z
SUMMARY:Tertulia martiana
DESCRIPTION:Tertulia martiana conducida por Ramón Guerra, sobre la figura femen ina en la obra del Apóstol.
LOCATION:
TRANSP:OPAQUE
DTSTART;VALUE=DATE:20080328
DTEND;VALUE=DATE:20080329
END:VEVENT
BEGIN:VEVENT
UID:16@simplecalendar-Revista Opus Habana
CATEGORIES:
CLASS:PUBLIC
DTSTAMP:20191115T153712Z
CREATED:20191115T153712Z
SUMMARY:Taller de lengua francesa
DESCRIPTION:Taller de lengua francesa con el animador Claude Selhum.
LOCATION:
TRANSP:OPAQUE
DTSTART:20080328T110000Z
DTEND:20080328T140000Z
END:VEVENT
BEGIN:VEVENT
UID:24@simplecalendar-Revista Opus Habana
CATEGORIES:
CLASS:PUBLIC
DTSTAMP:20191115T153712Z
CREATED:20191115T153712Z
SUMMARY:Encuentro mensual del proyecto cultural Dialfa.
DESCRIPTION:Encuentro mensual del proyecto cultural Dialfa, dedicado a la divulgaci&oa cute;n del arte y la literatura fantásticos.
LOCATION:
TRANSP:OPAQUE
DTSTART;VALUE=DATE:20080329
DTEND;VALUE=DATE:20080330
END:VEVENT
BEGIN:VEVENT
UID:25@simplecalendar-Revista Opus Habana
CATEGORIES:
CLASS:PUBLIC
DTSTAMP:20191115T153712Z
CREATED:20191115T153712Z
SUMMARY:ProyecciÃ³n de la pelÃ­cula Jarhead.
DESCRIPTION:Proyección de la película Jarhead.
LOCATION:
TRANSP:OPAQUE
DTSTART;VALUE=DATE:20080329
DTEND;VALUE=DATE:20080330
END:VEVENT
BEGIN:VEVENT
UID:33@simplecalendar-Revista Opus Habana
CATEGORIES:
CLASS:PUBLIC
DTSTAMP:20191115T153712Z
CREATED:20191115T153712Z
SUMMARY:Curso libre de postgrado La cultura cubana en los 50.
DESCRIPTION:Como parte de las acciones por el cincuentenario de la Revolución c ubana, comienza el curso libre de postgrado La cultura cubana en los 50, a  cargo de Ana Cairo, Mariana Serra y Ricardo Hernández Otero.
LOCATION:
TRANSP:OPAQUE
DTSTART:20080331T143000Z
DTEND:20080331T163000Z
END:VEVENT
END:VCALENDAR