BEGIN:VCALENDAR
VERSION:2.0
METHOD:PUBLISH
PRODID:SimpleCalendar
BEGIN:VEVENT
UID:@simplecalendar-Revista Opus Habana
CATEGORIES:Literarios
CLASS:PUBLIC
DTSTAMP:20191128T193721Z
CREATED:20191128T193721Z
SUMMARY:Té literario.
DESCRIPTION:Té literario.  / Casa de la Poesía
LOCATION:
URL:http://opushabana.cu/index.php/component/simplecalendar/54-literarios/119?Itemid=101
TRANSP:OPAQUE
DTSTART:20080416T180000Z
DTEND:20080416T180000Z
END:VEVENT
END:VCALENDAR