BEGIN:VCALENDAR
VERSION:2.0
METHOD:PUBLISH
PRODID:SimpleCalendar
BEGIN:VEVENT
UID:@simplecalendar-Revista Opus Habana
CATEGORIES:Literarios
CLASS:PUBLIC
DTSTAMP:20191128T193646Z
CREATED:20191128T193646Z
SUMMARY:Espacio La oscura sed
DESCRIPTION:Espacio La oscura sed  / Casa de la Poesía
LOCATION:
URL:http://opushabana.cu/index.php/component/simplecalendar/54-literarios/13?Itemid=101
TRANSP:OPAQUE
DTSTART:20080327T170000Z
DTEND:20080327T170000Z
END:VEVENT
END:VCALENDAR