BEGIN:VCALENDAR
VERSION:2.0
METHOD:PUBLISH
PRODID:SimpleCalendar
BEGIN:VEVENT
UID:@simplecalendar-Revista Opus Habana
CATEGORIES:Literarios
CLASS:PUBLIC
DTSTAMP:20191128T193734Z
CREATED:20191128T193734Z
SUMMARY:Encuentro de dos generaciones poéticas.
DESCRIPTION:Encuentro de dos generaciones poéticas.  / Centro Hispanoamericano de Cult ura
LOCATION:
URL:http://opushabana.cu/index.php/component/simplecalendar/54-literarios/143?Itemid=101
TRANSP:OPAQUE
DTSTART:20080424T170000Z
DTEND:20080424T170000Z
END:VEVENT
END:VCALENDAR