BEGIN:VCALENDAR
VERSION:2.0
METHOD:PUBLISH
PRODID:SimpleCalendar
BEGIN:VEVENT
UID:@simplecalendar-Revista Opus Habana
CATEGORIES:Literarios
CLASS:PUBLIC
DTSTAMP:20191128T193652Z
CREATED:20191128T193652Z
SUMMARY:Acto de celebración por el Día del Libro Cubano.
DESCRIPTION:Acto de celebración por el Día del Libro Cubano.  / Biblioteca Pública R ubén Martínez Villena
LOCATION:
URL:http://opushabana.cu/index.php/component/simplecalendar/54-literarios/35?Itemid=101
TRANSP:OPAQUE
DTSTART:20080331T100000Z
DTEND:20080331T100000Z
END:VEVENT
END:VCALENDAR