BEGIN:VCALENDAR
VERSION:2.0
METHOD:PUBLISH
PRODID:SimpleCalendar
BEGIN:VEVENT
UID:@simplecalendar-Revista Opus Habana
CATEGORIES:Literarios
CLASS:PUBLIC
DTSTAMP:20191128T193639Z
CREATED:20191128T193639Z
SUMMARY:Velada En versos y en música
DESCRIPTION:Velada En versos y en música  / Oratorio de San Felipe Neri
LOCATION:
LAST-MODIFIED:20110214T164649Z
URL:http://opushabana.cu/index.php/component/simplecalendar/54-literarios/3793-velada-en-versos-y-en-musica?Itemid=101
TRANSP:OPAQUE
DTSTART:20080225T180000Z
DTEND:20080225T200000Z
END:VEVENT
END:VCALENDAR