BEGIN:VCALENDAR
VERSION:2.0
METHOD:PUBLISH
PRODID:SimpleCalendar
BEGIN:VEVENT
UID:@simplecalendar-Revista Opus Habana
CATEGORIES:Literarios
CLASS:PUBLIC
DTSTAMP:20191128T193658Z
CREATED:20191128T193658Z
SUMMARY:Presentación del libro Creciente agonía.
DESCRIPTION:Presentación del libro Creciente agonía.  / Museo Casa Natal José Martí
LOCATION:
URL:http://opushabana.cu/index.php/component/simplecalendar/54-literarios/51?Itemid=101
TRANSP:OPAQUE
DTSTART:20080402T100000Z
DTEND:20080402T100000Z
END:VEVENT
END:VCALENDAR