BEGIN:VCALENDAR
VERSION:2.0
METHOD:PUBLISH
PRODID:SimpleCalendar
BEGIN:VEVENT
UID:@simplecalendar-Revista Opus Habana
CATEGORIES:Literarios
CLASS:PUBLIC
DTSTAMP:20191128T193704Z
CREATED:20191128T193704Z
SUMMARY:Espacio Informalmente formal.
DESCRIPTION:Espacio Informalmente formal.  / Casa de la Poesía
LOCATION:
URL:http://opushabana.cu/index.php/component/simplecalendar/54-literarios/71?Itemid=101
TRANSP:OPAQUE
DTSTART:20080405T170000Z
DTEND:20080405T170000Z
END:VEVENT
END:VCALENDAR