BEGIN:VCALENDAR
VERSION:2.0
METHOD:PUBLISH
PRODID:SimpleCalendar
BEGIN:VEVENT
UID:@simplecalendar-Revista Opus Habana
CATEGORIES:Literarios
CLASS:PUBLIC
DTSTAMP:20191128T193728Z
CREATED:20191128T193728Z
SUMMARY:Taller de apreciación literaria Rolando T. Escardó.
DESCRIPTION:Taller de apreciación literaria Rolando T. Escardó.  / Casa de la Poesía
LOCATION:
URL:http://opushabana.cu/index.php/component/simplecalendar/54-literarios/92?Itemid=101
TRANSP:OPAQUE
DTSTART:20080423T160000Z
DTEND:20080423T160000Z
END:VEVENT
END:VCALENDAR