BEGIN:VCALENDAR
VERSION:2.0
METHOD:PUBLISH
PRODID:SimpleCalendar
X-WR-TIMEZONE:Europe/London
BEGIN:VEVENT
UID:3793@simplecalendar-Revista Opus Habana
CATEGORIES:
CLASS:PUBLIC
DTSTAMP:20191115T155934Z
CREATED:20191115T155934Z
SUMMARY:Velada En versos y en mÃºsica
DESCRIPTION:Velada En versos y en mÃºsica, lectura de poemas con acompaÃ±amiento de pi ano, por Laure Cambau y Jean Portante.
LOCATION:
LAST-MODIFIED:20110214T203423Z
TRANSP:OPAQUE
DTSTART:20080225T180000Z
DTEND:20080225T200000Z
END:VEVENT
BEGIN:VEVENT
UID:13@simplecalendar-Revista Opus Habana
CATEGORIES:
CLASS:PUBLIC
DTSTAMP:20191115T155934Z
CREATED:20191115T155934Z
SUMMARY:Espacio La oscura sed
DESCRIPTION:Espacio La oscura sed, dedicado a la crítica literaria que tratar&a acute; acerca de la escritora Cleva Solís.
LOCATION:
TRANSP:OPAQUE
DTSTART;VALUE=DATE:20080327
DTEND;VALUE=DATE:20080328
END:VEVENT
BEGIN:VEVENT
UID:35@simplecalendar-Revista Opus Habana
CATEGORIES:
CLASS:PUBLIC
DTSTAMP:20191115T155934Z
CREATED:20191115T155934Z
SUMMARY:Acto de celebraciÃ³n por el DÃ­a del Libro Cubano.
DESCRIPTION:Acto de celebración por el Día del Libro Cubano.
LOCATION:
TRANSP:OPAQUE
DTSTART;VALUE=DATE:20080331
DTEND;VALUE=DATE:20080401
END:VEVENT
BEGIN:VEVENT
UID:51@simplecalendar-Revista Opus Habana
CATEGORIES:
CLASS:PUBLIC
DTSTAMP:20191115T155934Z
CREATED:20191115T155934Z
SUMMARY:PresentaciÃ³n del libro Creciente agonÃ­a.
DESCRIPTION:Presentación del libro Creciente agonía, de Froilán G onzález y Adis Cupull, basado en la investigación y document ación sobre la familia del Apóstol.
LOCATION:
TRANSP:OPAQUE
DTSTART;VALUE=DATE:20080402
DTEND;VALUE=DATE:20080403
END:VEVENT
BEGIN:VEVENT
UID:71@simplecalendar-Revista Opus Habana
CATEGORIES:
CLASS:PUBLIC
DTSTAMP:20191115T155934Z
CREATED:20191115T155934Z
SUMMARY:Espacio Informalmente formal.
DESCRIPTION:Espacio Informalmente formal, con el poeta matancero José Manuel Es pino como invitado.
LOCATION:
TRANSP:OPAQUE
DTSTART;VALUE=DATE:20080405
DTEND;VALUE=DATE:20080406
END:VEVENT
BEGIN:VEVENT
UID:91@simplecalendar-Revista Opus Habana
CATEGORIES:
CLASS:PUBLIC
DTSTAMP:20191115T155934Z
CREATED:20191115T155934Z
SUMMARY:Taller de apreciaciÃ³n literaria Rolando T. EscardÃ³.
DESCRIPTION:Taller de apreciación literaria Rolando T. Escardó, conducid o por Karel Leyva.
LOCATION:
TRANSP:OPAQUE
DTSTART;VALUE=DATE:20080409
DTEND;VALUE=DATE:20080410
END:VEVENT
BEGIN:VEVENT
UID:96@simplecalendar-Revista Opus Habana
CATEGORIES:
CLASS:PUBLIC
DTSTAMP:20191115T155934Z
CREATED:20191115T155934Z
SUMMARY:Espacio Tropos.
DESCRIPTION:Espacio Tropos, con la presencia de poetas ganadores del concurso nacional  Regino Botti.
LOCATION:
TRANSP:OPAQUE
DTSTART;VALUE=DATE:20080410
DTEND;VALUE=DATE:20080411
END:VEVENT
BEGIN:VEVENT
UID:119@simplecalendar-Revista Opus Habana
CATEGORIES:
CLASS:PUBLIC
DTSTAMP:20191115T155934Z
CREATED:20191115T155934Z
SUMMARY:TÃ© literario.
DESCRIPTION:Té literario, organizado por la Consejería ITS-VIH en La Hab ana Vieja.
LOCATION:
TRANSP:OPAQUE
DTSTART;VALUE=DATE:20080416
DTEND;VALUE=DATE:20080417
END:VEVENT
BEGIN:VEVENT
UID:92@simplecalendar-Revista Opus Habana
CATEGORIES:
CLASS:PUBLIC
DTSTAMP:20191115T155934Z
CREATED:20191115T155934Z
SUMMARY:Taller de apreciaciÃ³n literaria Rolando T. EscardÃ³.
DESCRIPTION:Taller de apreciación literaria Rolando T. Escardó, conducid o por Karel Leyva.
LOCATION:
TRANSP:OPAQUE
DTSTART;VALUE=DATE:20080423
DTEND;VALUE=DATE:20080424
END:VEVENT
BEGIN:VEVENT
UID:143@simplecalendar-Revista Opus Habana
CATEGORIES:
CLASS:PUBLIC
DTSTAMP:20191115T155934Z
CREATED:20191115T155934Z
SUMMARY:Encuentro de dos generaciones poÃ©ticas.
DESCRIPTION:Encuentro de dos generaciones poéticas organizado por el instituto  Cubano del Libro, la Asociación Hermanos Saíz y el Centro Hi spano-Americano.
LOCATION:
TRANSP:OPAQUE
DTSTART;VALUE=DATE:20080424
DTEND;VALUE=DATE:20080425
END:VEVENT
END:VCALENDAR