BEGIN:VCALENDAR
VERSION:2.0
METHOD:PUBLISH
PRODID:SimpleCalendar
BEGIN:VEVENT
UID:@simplecalendar-Revista Opus Habana
CATEGORIES:Otros
CLASS:PUBLIC
DTSTAMP:20191128T182236Z
CREATED:20191128T182236Z
SUMMARY:Semana de la Cultura Polaca
DESCRIPTION:Semana de la Cultura Polaca  / Basílica de San Francisco de Asís
LOCATION:
URL:http://opushabana.cu/index.php/component/simplecalendar/55-otros/217?Itemid=101
TRANSP:OPAQUE
DTSTART:20080505T000000Z
DTEND:20080509T000000Z
END:VEVENT
END:VCALENDAR