BEGIN:VCALENDAR
VERSION:2.0
METHOD:PUBLISH
PRODID:SimpleCalendar
BEGIN:VEVENT
UID:@simplecalendar-Revista Opus Habana
CATEGORIES:Otros
CLASS:PUBLIC
DTSTAMP:20191128T182243Z
CREATED:20191128T182243Z
SUMMARY:Tertulia de tradiciones, dedicada a la amistad de José Martí y J
DESCRIPTION:Tertulia de tradiciones, dedicada a la amistad de José Martí y J  / Casa  Juan Gualberto Gómez
LOCATION:
URL:http://opushabana.cu/index.php/component/simplecalendar/55-otros/231?Itemid=101
TRANSP:OPAQUE
DTSTART:20080509T143000Z
DTEND:20080509T143000Z
END:VEVENT
END:VCALENDAR