BEGIN:VCALENDAR
VERSION:2.0
METHOD:PUBLISH
PRODID:SimpleCalendar
BEGIN:VEVENT
UID:@simplecalendar-Revista Opus Habana
CATEGORIES:Otros
CLASS:PUBLIC
DTSTAMP:20191128T182255Z
CREATED:20191128T182255Z
SUMMARY:Celebración del Día de la Latinidad y acto de entrega al Dr. Alf
DESCRIPTION:Celebración del Día de la Latinidad y acto de entrega al Dr. Alf  / Basí lica de San Francisco de Asís
LOCATION:
URL:http://opushabana.cu/index.php/component/simplecalendar/55-otros/267?Itemid=101
TRANSP:OPAQUE
DTSTART:20080515T180000Z
DTEND:20080515T180000Z
END:VEVENT
END:VCALENDAR